BEGIN:VCALENDAR
VERSION:2.0
PRODID:-//ADAMH Board of Franklin County - ECPv6.15.17.1//NONSGML v1.0//EN
CALSCALE:GREGORIAN
METHOD:PUBLISH
X-WR-CALNAME:ADAMH Board of Franklin County
X-ORIGINAL-URL:https://adamhfranklin.org
X-WR-CALDESC:Events for ADAMH Board of Franklin County
REFRESH-INTERVAL;VALUE=DURATION:PT1H
X-Robots-Tag:noindex
X-PUBLISHED-TTL:PT1H
BEGIN:VTIMEZONE
TZID:America/New_York
BEGIN:DAYLIGHT
TZOFFSETFROM:-0500
TZOFFSETTO:-0400
TZNAME:EDT
DTSTART:20240310T070000
END:DAYLIGHT
BEGIN:STANDARD
TZOFFSETFROM:-0400
TZOFFSETTO:-0500
TZNAME:EST
DTSTART:20241103T060000
END:STANDARD
BEGIN:DAYLIGHT
TZOFFSETFROM:-0500
TZOFFSETTO:-0400
TZNAME:EDT
DTSTART:20250309T070000
END:DAYLIGHT
BEGIN:STANDARD
TZOFFSETFROM:-0400
TZOFFSETTO:-0500
TZNAME:EST
DTSTART:20251102T060000
END:STANDARD
BEGIN:DAYLIGHT
TZOFFSETFROM:-0500
TZOFFSETTO:-0400
TZNAME:EDT
DTSTART:20260308T070000
END:DAYLIGHT
BEGIN:STANDARD
TZOFFSETFROM:-0400
TZOFFSETTO:-0500
TZNAME:EST
DTSTART:20261101T060000
END:STANDARD
END:VTIMEZONE
BEGIN:VEVENT
DTSTART;TZID=America/New_York:20250801T110000
DTEND;TZID=America/New_York:20250801T140000
DTSTAMP:20260420T192745
CREATED:20250721T195053Z
LAST-MODIFIED:20250721T195053Z
UID:41613-1754046000-1754056800@adamhfranklin.org
SUMMARY:APDS Community Day
DESCRIPTION:APDS is hosting a vibrant Community Day celebration filled with local resources\, fun raffles and delicious food — all in the spirit of connection and empowerment.
URL:https://adamhfranklin.org/event/apds-community-day/
LOCATION:Africentric Personal Development Shop\, 1409 E. Livingston Ave.\, Columbus\, OH\, 43205\, United States
CATEGORIES:Community Events
END:VEVENT
BEGIN:VEVENT
DTSTART;TZID=America/New_York:20250802T110000
DTEND;TZID=America/New_York:20250802T153000
DTSTAMP:20260420T192745
CREATED:20250520T130956Z
LAST-MODIFIED:20250520T130956Z
UID:39187-1754132400-1754148600@adamhfranklin.org
SUMMARY:Back-to-School Student Health Fair
DESCRIPTION:Columbus Public Health (CPH)\, in partnership with Columbus City Schools and Nationwide Children’s Hospital\, will offer vaccinations\, hearing and vision screenings\, TB testing and annual physicals for all K-12 students at the 1st Student Health Fair. This free event is open to the public. Limited walk-ins will be available. \nRegister here.
URL:https://adamhfranklin.org/event/back-to-school-student-health-fair/2025-08-02/
LOCATION:East High School\, 1500 E. Broad St.\, Columbus\, OH\, 43205\, United States
CATEGORIES:Community Events
END:VEVENT
BEGIN:VEVENT
DTSTART;TZID=America/New_York:20250809T110000
DTEND;TZID=America/New_York:20250809T153000
DTSTAMP:20260420T192745
CREATED:20250520T130956Z
LAST-MODIFIED:20250520T130956Z
UID:39188-1754737200-1754753400@adamhfranklin.org
SUMMARY:Back-to-School Student Health Fair
DESCRIPTION:Columbus Public Health (CPH)\, in partnership with Columbus City Schools and Nationwide Children’s Hospital\, will offer vaccinations\, hearing and vision screenings\, TB testing and annual physicals for all K-12 students at the 1st Student Health Fair. This free event is open to the public. Limited walk-ins will be available. \nRegister here.
URL:https://adamhfranklin.org/event/back-to-school-student-health-fair/2025-08-09/
LOCATION:East High School\, 1500 E. Broad St.\, Columbus\, OH\, 43205\, United States
CATEGORIES:Community Events
END:VEVENT
BEGIN:VEVENT
DTSTART;TZID=America/New_York:20250809T120000
DTEND;TZID=America/New_York:20250809T160000
DTSTAMP:20260420T192745
CREATED:20250721T200759Z
LAST-MODIFIED:20250721T200759Z
UID:41617-1754740800-1754755200@adamhfranklin.org
SUMMARY:UMADAOP of Franklin County Tree of Life Resource Fair
DESCRIPTION:UMADAOP is hosting its fifth annual Tree of Life Community Resource Fair. The event will provide resources and support to the community and is part of UMADAOP’s Annual Tree of Life Violence Prevention Community Cookout. This event allows organizations to share information about available services with community members. Register here.
URL:https://adamhfranklin.org/event/umadaop-of-franklin-county-tree-of-life-resource-fair/
LOCATION:Driving Park Recreation Center\, 1100 Rhoads Ave.\, Columbus\, OH\, 43206\, United States
CATEGORIES:Community Events
END:VEVENT
BEGIN:VEVENT
DTSTART;TZID=America/New_York:20250811T110000
DTEND;TZID=America/New_York:20250811T120000
DTSTAMP:20260420T192745
CREATED:20250108T165725Z
LAST-MODIFIED:20250108T165725Z
UID:38300-1754910000-1754913600@adamhfranklin.org
SUMMARY:ADAMH Finance Committee Meeting
DESCRIPTION:ADAMH Finance Committee meetings are held from 11 a.m.-noon at the ADAMH building located at 447 E. Broad St. Columbus\, OH 43215.
URL:https://adamhfranklin.org/event/adamh-finance-committee-meeting-3/2025-08-11/
LOCATION:ADAMH\, 447 E. Broad St.\, Columbus\, OH\, 43215\, United States
CATEGORIES:Community Events,Provider Events
END:VEVENT
BEGIN:VEVENT
DTSTART;TZID=America/New_York:20250811T120000
DTEND;TZID=America/New_York:20250811T130000
DTSTAMP:20260420T192745
CREATED:20250108T145550Z
LAST-MODIFIED:20250108T164554Z
UID:38264-1754913600-1754917200@adamhfranklin.org
SUMMARY:ADAMH Coordinating Committee Meeting
DESCRIPTION:ADAMH Coordinating Committee meetings are held from noon-1 p.m. at the ADAMH building located at 447 E. Broad St. Columbus\, OH 43215.
URL:https://adamhfranklin.org/event/adamh-coordinating-committee-meeting-2025-02-10/2025-08-11/
LOCATION:ADAMH\, 447 E. Broad St.\, Columbus\, OH\, 43215\, United States
CATEGORIES:Community Events,Provider Events
END:VEVENT
BEGIN:VEVENT
DTSTART;TZID=America/New_York:20250811T180000
DTEND;TZID=America/New_York:20250811T193000
DTSTAMP:20260420T192745
CREATED:20250108T195947Z
LAST-MODIFIED:20250108T195947Z
UID:38315-1754935200-1754940600@adamhfranklin.org
SUMMARY:Community Advocacy Council Meeting
DESCRIPTION:The Community Advocacy Council is a voluntary group of individuals who are either recovering from mental illness or drug and alcohol addiction themselves or have family members who are. The council provides a network of individuals for advocacy\, support to families and advice to the ADAMH staff and Board of Trustees. The meetings are held at ADAMH\, 447 E. Broad St.\, but can also be accessed by Zoom here.
URL:https://adamhfranklin.org/event/community-advocacy-council-meeting/2025-08-11/
LOCATION:ADAMH\, 447 E. Broad St.\, Columbus\, OH\, 43215\, United States
CATEGORIES:Community Events
END:VEVENT
BEGIN:VEVENT
DTSTART;TZID=America/New_York:20250813T090000
DTEND;TZID=America/New_York:20250813T120000
DTSTAMP:20260420T192745
CREATED:20250520T155843Z
LAST-MODIFIED:20250520T155843Z
UID:39212-1755075600-1755086400@adamhfranklin.org
SUMMARY:PEERVoices 2025 - The Human Experience: Connection\, Community\, Compassion
DESCRIPTION:The P.E.E.R. Center and OhioMHAS present PEERVoices 2025 – The Human Experience: Connection\, Community\, Compassion. This virtual training allows participants an opportunity to connect and candidly share how recent events have impacted them personally\, professionally\, and spiritually. It gives everyone an opportunity to share their personal experiences with racism and bias. We’ll take this courageous journey together through creating space for each other by listening\, learning\, understanding and resonating with each other. Overall\, this powerful exchange helps to frame and personalize your training. In addition\, we will discuss terms and definitions and unpack the many systems of oppression. \nRegister here.
URL:https://adamhfranklin.org/event/peervoices-2025-the-human-experience-connection-community-compassion/
LOCATION:OH
CATEGORIES:Community Events,Provider Events
END:VEVENT
BEGIN:VEVENT
DTSTART;TZID=America/New_York:20250815T130000
DTEND;TZID=America/New_York:20250815T160000
DTSTAMP:20260420T192745
CREATED:20250520T154024Z
LAST-MODIFIED:20250520T154024Z
UID:39202-1755262800-1755273600@adamhfranklin.org
SUMMARY:Harm Reduction Pop-Up
DESCRIPTION:Netcare is hosting a Harm Reduction Pop-Up Event in its parking lot. Essential supplies such as Narcan\, sterile use kits\, condoms\, first aid kits\, clothing\, snacks and more will be offered to support our neighbors in need.
URL:https://adamhfranklin.org/event/harm-reduction-pop-up-2/2025-08-15/
LOCATION:Netcare Access\, 199 South Central Avenue\, Columbus\, OH\, 43223\, United States
CATEGORIES:Community Events
END:VEVENT
BEGIN:VEVENT
DTSTART;TZID=America/New_York:20250826T173000
DTEND;TZID=America/New_York:20250826T190000
DTSTAMP:20260420T192745
CREATED:20250108T145001Z
LAST-MODIFIED:20251117T152322Z
UID:38248-1756229400-1756234800@adamhfranklin.org
SUMMARY:ADAMH Board of Trustees Meeting
DESCRIPTION:UPDATED LOCATION: Columbus Metropolitan Library – 95 S. Grant Avenue – Carnegie Room \nADAMH Board meetings are held from 5:30 p.m.-7 p.m. at the ADAMH building located at 447 E. Broad St. Columbus\, OH 43215.  Board meetings will be broadcast to the ADAMH YouTube channel for public viewing. Members of the community who wish to address the ADAMH Board of Trustees can complete this online form and submit by the Thursday prior to the meeting.
URL:https://adamhfranklin.org/event/adamh-board-of-trustees-meeting-7-2025-08-26/
LOCATION:Columbus Metropolitan Library\, 96 S. Grant Ave.\, Columbus\, OH\, 43215\, United States
CATEGORIES:Community Events,Provider Events
END:VEVENT
BEGIN:VEVENT
DTSTART;TZID=America/New_York:20250827T180000
DTEND;TZID=America/New_York:20250827T200000
DTSTAMP:20260420T192745
CREATED:20250805T145834Z
LAST-MODIFIED:20250805T145834Z
UID:42234-1756317600-1756324800@adamhfranklin.org
SUMMARY:International Overdose Awareness Event
DESCRIPTION:The Columbus and Franklin County Addiction Plan\, along with community partners\, is hosting this special event honoring families who have lost a loved one to overdose.  \nOn Aug. 27\, the event will include community resources and a panel discussion. RSVP here. \n  \n 
URL:https://adamhfranklin.org/event/international-overdose-awareness-event/
LOCATION:Franklin Park Conservatory\, 1777 E. Broad St.\, Columbus\, OH\, 43203\, United States
CATEGORIES:Community Events,Provider Events
END:VEVENT
END:VCALENDAR