BEGIN:VCALENDAR
VERSION:2.0
PRODID:-//ADAMH Board of Franklin County - ECPv6.15.17.1//NONSGML v1.0//EN
CALSCALE:GREGORIAN
METHOD:PUBLISH
X-WR-CALNAME:ADAMH Board of Franklin County
X-ORIGINAL-URL:https://adamhfranklin.org
X-WR-CALDESC:Events for ADAMH Board of Franklin County
REFRESH-INTERVAL;VALUE=DURATION:PT1H
X-Robots-Tag:noindex
X-PUBLISHED-TTL:PT1H
BEGIN:VTIMEZONE
TZID:America/New_York
BEGIN:DAYLIGHT
TZOFFSETFROM:-0500
TZOFFSETTO:-0400
TZNAME:EDT
DTSTART:20250309T070000
END:DAYLIGHT
BEGIN:STANDARD
TZOFFSETFROM:-0400
TZOFFSETTO:-0500
TZNAME:EST
DTSTART:20251102T060000
END:STANDARD
BEGIN:DAYLIGHT
TZOFFSETFROM:-0500
TZOFFSETTO:-0400
TZNAME:EDT
DTSTART:20260308T070000
END:DAYLIGHT
BEGIN:STANDARD
TZOFFSETFROM:-0400
TZOFFSETTO:-0500
TZNAME:EST
DTSTART:20261101T060000
END:STANDARD
BEGIN:DAYLIGHT
TZOFFSETFROM:-0500
TZOFFSETTO:-0400
TZNAME:EDT
DTSTART:20270314T070000
END:DAYLIGHT
BEGIN:STANDARD
TZOFFSETFROM:-0400
TZOFFSETTO:-0500
TZNAME:EST
DTSTART:20271107T060000
END:STANDARD
END:VTIMEZONE
BEGIN:VEVENT
DTSTART;TZID=America/New_York:20260425T080000
DTEND;TZID=America/New_York:20260425T160000
DTSTAMP:20260423T210133
CREATED:20260309T144527Z
LAST-MODIFIED:20260421T162315Z
UID:44924-1777104000-1777132800@adamhfranklin.org
SUMMARY:Mental Health in Motion: Move Your Body\, Heal Your Mind Community Event
DESCRIPTION:Reset Tomorrow is hosting a free community wellness day with support from an ADAMH mini-grant. The day will include dance and group fitness\, sports skills\, workshops and more.
URL:https://adamhfranklin.org/event/move-your-body-heal-your-mind-community-event/
LOCATION:Reset Recreation Center\, 3621 E. Livingston Ave.\, Columbus\, OH\, 43227\, United States
CATEGORIES:Community Events
ORGANIZER;CN="Reset Tomorrow":MAILTO:support@resetohio.com
END:VEVENT
END:VCALENDAR