BEGIN:VCALENDAR
VERSION:2.0
PRODID:-//ADAMH Board of Franklin County - ECPv6.15.17.1//NONSGML v1.0//EN
CALSCALE:GREGORIAN
METHOD:PUBLISH
X-ORIGINAL-URL:https://adamhfranklin.org
X-WR-CALDESC:Events for ADAMH Board of Franklin County
REFRESH-INTERVAL;VALUE=DURATION:PT1H
X-Robots-Tag:noindex
X-PUBLISHED-TTL:PT1H
BEGIN:VTIMEZONE
TZID:America/New_York
BEGIN:DAYLIGHT
TZOFFSETFROM:-0500
TZOFFSETTO:-0400
TZNAME:EDT
DTSTART:20240310T070000
END:DAYLIGHT
BEGIN:STANDARD
TZOFFSETFROM:-0400
TZOFFSETTO:-0500
TZNAME:EST
DTSTART:20241103T060000
END:STANDARD
BEGIN:DAYLIGHT
TZOFFSETFROM:-0500
TZOFFSETTO:-0400
TZNAME:EDT
DTSTART:20250309T070000
END:DAYLIGHT
BEGIN:STANDARD
TZOFFSETFROM:-0400
TZOFFSETTO:-0500
TZNAME:EST
DTSTART:20251102T060000
END:STANDARD
BEGIN:DAYLIGHT
TZOFFSETFROM:-0500
TZOFFSETTO:-0400
TZNAME:EDT
DTSTART:20260308T070000
END:DAYLIGHT
BEGIN:STANDARD
TZOFFSETFROM:-0400
TZOFFSETTO:-0500
TZNAME:EST
DTSTART:20261101T060000
END:STANDARD
END:VTIMEZONE
BEGIN:VEVENT
DTSTART;TZID=America/New_York:20251015T183000
DTEND;TZID=America/New_York:20251015T193000
DTSTAMP:20260424T031016
CREATED:20251009T184547Z
LAST-MODIFIED:20251009T184547Z
UID:44473-1760553000-1760556600@adamhfranklin.org
SUMMARY:Prospective Foster Care Parents Virtual Forum
DESCRIPTION:The foster care team at The Buckeye Ranch is holding a virtual town hall for prospective foster parents. Members from the team team will be sharing information to empower prospective foster parents on their foster care journey\, answering questions and offering resources to help them thrive. Email jbush@buckeyeranch.org to register.
URL:https://adamhfranklin.org/event/prospective-foster-care-parents-virtual-forum/
CATEGORIES:Community Events
END:VEVENT
END:VCALENDAR