BEGIN:VCALENDAR
VERSION:2.0
PRODID:-//ADAMH Board of Franklin County - ECPv6.15.17.1//NONSGML v1.0//EN
CALSCALE:GREGORIAN
METHOD:PUBLISH
X-WR-CALNAME:ADAMH Board of Franklin County
X-ORIGINAL-URL:https://adamhfranklin.org
X-WR-CALDESC:Events for ADAMH Board of Franklin County
REFRESH-INTERVAL;VALUE=DURATION:PT1H
X-Robots-Tag:noindex
X-PUBLISHED-TTL:PT1H
BEGIN:VTIMEZONE
TZID:America/New_York
BEGIN:DAYLIGHT
TZOFFSETFROM:-0500
TZOFFSETTO:-0400
TZNAME:EDT
DTSTART:20240310T070000
END:DAYLIGHT
BEGIN:STANDARD
TZOFFSETFROM:-0400
TZOFFSETTO:-0500
TZNAME:EST
DTSTART:20241103T060000
END:STANDARD
BEGIN:DAYLIGHT
TZOFFSETFROM:-0500
TZOFFSETTO:-0400
TZNAME:EDT
DTSTART:20250309T070000
END:DAYLIGHT
BEGIN:STANDARD
TZOFFSETFROM:-0400
TZOFFSETTO:-0500
TZNAME:EST
DTSTART:20251102T060000
END:STANDARD
BEGIN:DAYLIGHT
TZOFFSETFROM:-0500
TZOFFSETTO:-0400
TZNAME:EDT
DTSTART:20260308T070000
END:DAYLIGHT
BEGIN:STANDARD
TZOFFSETFROM:-0400
TZOFFSETTO:-0500
TZNAME:EST
DTSTART:20261101T060000
END:STANDARD
END:VTIMEZONE
BEGIN:VEVENT
DTSTART;TZID=America/New_York:20251122T093000
DTEND;TZID=America/New_York:20251122T113000
DTSTAMP:20260425T165837
CREATED:20251009T174933Z
LAST-MODIFIED:20251009T174933Z
UID:44468-1763803800-1763811000@adamhfranklin.org
SUMMARY:International Survivors of Suicide Loss Day Breakfast
DESCRIPTION:LOSS Community Services is hosting a free breakfast in observance of ISSLD. The morning will honor the seasons of loss and healing in a space of compassion and connection. Register here.
URL:https://adamhfranklin.org/event/international-survivors-of-suicide-loss-day-breakfast/
LOCATION:Warner Woods Pavilion\, 4747 Central College Road\, Westerville\, OH\, 43081\, United States
CATEGORIES:Community Events
END:VEVENT
END:VCALENDAR